Workbook

Sheet Details 
A2: Particulars | B2: Cost | C2: MRP | D2: QTY | E2: Total Cost | F2: Total MRP
A4: Consulting | B4: 200 | C4: 300 | D4: 1 | E4: =B4*D4 -> 200 | F4: =C4*D4 -> 300
A5: USG SCAN | B5: 900 | C5: =1250 -> 1250 | D5: 2 | E5: =B5*D5 -> 1800 | F5: =C5*D5 -> 2500
A6: Marketing | B6: 1000 | C6: 1000 | D6: 1 | E6: =B6*D6 -> 1000 | F6: =C6*D6 -> 1000
A7: Lab Test | E7: =B7*D7 -> 0 | F7: =C7*D7 -> 0
A8: CBC | B8: 115 | C8: 220 | D8: 1 | E8: =B8*D8 -> 115 | F8: =C8*D8 -> 220
A9: NATCL | B9: 70 | C9: 180 | D9: 1 | E9: =B9*D9 -> 70 | F9: =C9*D9 -> 180
A10: PTINR | B10: 45 | C10: 90 | D10: 1 | E10: =B10*D10 -> 45 | F10: =C10*D10 -> 90
A11: Serolegy | B11: 320 | C11: 700 | D11: 1 | E11: =B11*D11 -> 320 | F11: =C11*D11 -> 700
A12: CTR | B12: 160 | C12: 250 | D12: 1 | E12: =B12*D12 -> 160 | F12: =C12*D12 -> 250
A13: ECG | B13: 110 | C13: 280 | D13: 1 | E13: =B13*D13 -> 110 | F13: =C13*D13 -> 280
A14: Bloog group | B14: 45 | C14: 100 | D14: 1 | E14: =B14*D14 -> 45 | F14: =C14*D14 -> 100
A15: RFT(AD) | B15: 110 | C15: 300 | D15: 1 | E15: =B15*D15 -> 110 | F15: =C15*D15 -> 300
A16: Condulosy | B16: 180 | C16: 350 | D16: 1 | E16: =B16*D16 -> 180 | F16: =C16*D16 -> 350
E17: =B17*D17 -> 0 | F17: =C17*D17 -> 0
A18: PAC | B18: 1000 | C18: 2000 | D18: 1 | E18: =B18*D18 -> 1000 | F18: =C18*D18 -> 2000
A19: Outside Doctorv | B19: 10000 | C19: =B19 -> 10000 | D19: 1 | E19: =B19*D19 -> 10000 | F19: =C19*D19 -> 10000
A20: Medicine | E20: =B20*D20 -> 0 | F20: =C20*D20 -> 0
A21: Cetaperozine | B21: 255 | C21: =306 -> 306 | D21: 2 | E21: =B21*D21 -> 510 | F21: =C21*D21 -> 612
A22: Pemtop | B22: 44 | C22: =54 -> 54 | D22: 3 | E22: =B22*D22 -> 132 | F22: =C22*D22 -> 162
A23: PCM | B23: 66 | C23: =244 -> 244 | D23: 3 | E23: =B23*D23 -> 198 | F23: =C23*D23 -> 732
E24: =B24*D24 -> 0 | F24: =C24*D24 -> 0
A25: Ivcanut | B25: 31 | C25: 200 | D25: 1 | E25: =B25*D25 -> 31 | F25: =C25*D25 -> 200
A26: Ivset | B26: 13 | C26: 200 | D26: 1 | E26: =B26*D26 -> 13 | F26: =C26*D26 -> 200
A27: Eartm | B27: 8 | C27: 35 | D27: 1 | E27: =B27*D27 -> 8 | F27: =C27*D27 -> 35
A28: Syeren | B28: 10 | C28: 30 | D28: 1 | E28: =B28*D28 -> 10 | F28: =C28*D28 -> 30
A29: Spinal Needel | B29: 87 | C29: 221 | D29: 1 | E29: =B29*D29 -> 87 | F29: =C29*D29 -> 221
A30: Anavin | B30: 27 | C30: 33 | D30: 1 | E30: =B30*D30 -> 27 | F30: =C30*D30 -> 33
A31: Sqringe | B31: 3 | C31: 9 | D31: 5 | E31: =B31*D31 -> 15 | F31: =C31*D31 -> 45
A32: Needele | B32: 1 | C32: 3 | D32: 5 | E32: =B32*D32 -> 5 | F32: =C32*D32 -> 15
A33: O2 Mask | B33: 46 | C33: 170 | D33: 1 | E33: =B33*D33 -> 46 | F33: =C33*D33 -> 170
A34: H Atropine | B34: 6 | C34: 8 | D34: 1 | E34: =B34*D34 -> 6 | F34: =C34*D34 -> 8
A35: H emesel | B35: 6 | C35: 13 | D35: 1 | E35: =B35*D35 -> 6 | F35: =C35*D35 -> 13
A36: Stunel | B36: 300 | C36: 600 | D36: 2 | E36: =B36*D36 -> 600 | F36: =C36*D36 -> 1200
... A43: Gawn | B43: 50 | C43: 110 | D43: 3 | E43: =B43*D43 -> 150 | F43: =C43*D43 -> 330
A44: Betadine | B44: 57 | C44: 102 | D44: 100ML | E44: 57 | F44: 102
A45: Spirit | B45: 130 | C45: =130 -> 130 | D45: 50ML | E45: 130 | F45: 130
A46: Multiparameter | B46: 800 | C46: 1000 | D46: 1 | E46: =B46*D46 -> 800 | F46: =C46*D46 -> 1000
A47: astpad | B47: 50 | C47: 160 | D47: 2 | E47: =B47*D47 -> 100 | F47: =C47*D47 -> 320
A48: Bandge | B48: 150 | C48: 400 | D48: 2 | E48: =B48*D48 -> 300 | F48: =C48*D48 -> 800
...

Sheet Procedure 
A1: ENDOVENOUS LASER ABLATION (EVLA)
A2: MANAGEMENT PRESENTATION FORMAT
A4: --------------------------------------------------
A5: 1. OBJECTIVE
A6: --------------------------------------------------
A7: • To present a consolidated overview of the
A8: Endovenous Laser Ablation (EVLA) procedure
A9: • To support management decision-making on
A10: standardization and approval
A12: --------------------------------------------------
A13: 2. PROCEDURE OVERVIEW
A14: --------------------------------------------------
... A91: controlled risk and predictable outcomes

Sheet calculation 
A2: ENDOVENOUS LASER ABLATION (EVLA)
A4: Cost Category | B4: Cost Head | C4: Description | D4: Cost | E4: MRP
A5: Pre-Procedure Costs | B5: Consultation & Evaluation | C5: OPD consultation and clinical assessment | D5: =SUM('Details '!E4:E6) -> 3000 | E5: =SUM('Details '!F4:F6) -> 3800
A6: Pre-Procedure Costs | B6: Diagnostics & Investigations | C6: Imaging and laboratory investigations | D6: =SUM('Details '!E8:E16) -> 1155 | E6: =SUM('Details '!F8:F16) -> 2470
A7: Pre-Procedure Costs | B7: PAC & Medical Clearance | C7: Pre-anaesthetic and physician clearance | D7: =SUM('Details '!E18) -> 1000 | E7: =SUM('Details '!F18) -> 2000
A8: Procedure Costs | B8: Operation Theatre Charges | C8: OT usage and infrastructure cost | D8: ='Details '!E52+'Details '!E46 -> 4000 | E8: ='Details '!F52+'Details '!F46 -> 5500
A9: Procedure Costs | B9: Professional Fees | C9: Surgeon anaesthetist and technical staff | D9: ='Details '!E19+'Details '!E50+'Details '!E51 -> 16000 | E9: ='Details '!F19+'Details '!F50+'Details '!F51 -> 23000
A10: Procedure Costs | B10: Laser & Procedure Kit | C10: Laser fiber and procedure specific kit | D10: ='Details '!E53 -> 5000 | E10: ='Details '!F53 -> 5000
A11: Procedure Costs | B11: OT Consumables (Bundled) | C11: All OT disposables and consumables | D11: =SUM('Details '!E25:E45,'Details '!E47:E49) -> 3000 | E11: =SUM('Details '!F25:F45,'Details '!F47:F49) -> 7624
A12: Post-Procedure Costs | B12: Recovery & Nursing Care | C12: Observation nursing and monitoring | D12: ='Details '!E54 -> 1800 | E12: ='Details '!F54 -> 2000
A13: Post-Procedure Costs | B13: Medicines & Dressings | C13: Post-procedure medicines and dressings | D13: =SUM('Details '!E21:E23)+100 -> 940 | E13: =SUM('Details '!F21:F23)+100 -> 1606
A14: Post-Procedure Costs | B14: Compression & Follow-up | C14: Stockings and follow-up review
D15: =SUM(D5:D14) -> 35895 | E15: =SUM(E5:E14) -> 53000
A16: Margin | D16: =D17-D15 -> 24105 | E16: =E17-E15 -> 7000
A17: Package Rate | D17: 60000 | E17: 60000
A18: Profit % | D18: =D16/D15 -> 0.671542 | E18: 60000
A19: No of Cases Trage ( Traget ) | D19: 10 | E19: 10
